Package: ExperimentSubset Version: 1.16.0 Command: rm -rf ExperimentSubset.buildbin-libdir && mkdir ExperimentSubset.buildbin-libdir && /Users/biocbuild/BBS/utils/build-universal.sh ExperimentSubset_1.16.0.tar.gz /Library/Frameworks/R.framework/Resources/bin/R ExperimentSubset.buildbin-libdir StartedAt: 2025-01-31 12:47:16 -0500 (Fri, 31 Jan 2025) EndedAt: 2025-01-31 12:48:29 -0500 (Fri, 31 Jan 2025) EllapsedTime: 72.9 seconds RetCode: 0 Status: OK PackageFile: ExperimentSubset_1.16.0.tgz PackageFileSize: 703.9 KiB