Package: ExperimentSubset Version: 1.18.0 Command: /Library/Frameworks/R.framework/Resources/bin/R CMD build --keep-empty-dirs --no-resave-data ExperimentSubset StartedAt: 2025-04-21 16:46:51 -0400 (Mon, 21 Apr 2025) EndedAt: 2025-04-21 16:47:47 -0400 (Mon, 21 Apr 2025) EllapsedTime: 56.2 seconds RetCode: 0 Status: OK PackageFile: ExperimentSubset_1.18.0.tar.gz PackageFileSize: 307.2 KiB