Package: ExperimentSubset Version: 1.18.0 Command: rm -rf ExperimentSubset.buildbin-libdir && mkdir ExperimentSubset.buildbin-libdir && /Users/biocbuild/BBS/utils/build-universal.sh ExperimentSubset_1.18.0.tar.gz /Library/Frameworks/R.framework/Resources/bin/R ExperimentSubset.buildbin-libdir StartedAt: 2025-04-22 00:45:04 -0400 (Tue, 22 Apr 2025) EndedAt: 2025-04-22 00:45:53 -0400 (Tue, 22 Apr 2025) EllapsedTime: 48.8 seconds RetCode: 0 Status: OK PackageFile: ExperimentSubset_1.18.0.tgz PackageFileSize: 709.8 KiB