Package: ExperimentSubset Version: 1.18.1 Command: /Library/Frameworks/R.framework/Resources/bin/R CMD INSTALL ExperimentSubset StartedAt: 2025-05-22 16:28:20 -0400 (Thu, 22 May 2025) EndedAt: 2025-05-22 16:28:59 -0400 (Thu, 22 May 2025) EllapsedTime: 38.7 seconds RetCode: 0 Status: OK