Package: ExperimentHub Version: 2.16.0 Command: /Library/Frameworks/R.framework/Resources/bin/R CMD check --install=check:ExperimentHub.install-out.txt --library=/Library/Frameworks/R.framework/Resources/library --no-vignettes --timings ExperimentHub_2.16.0.tar.gz StartedAt: 2025-05-16 03:26:35 -0400 (Fri, 16 May 2025) EndedAt: 2025-05-16 03:30:47 -0400 (Fri, 16 May 2025) EllapsedTime: 251.9 seconds RetCode: 0 Status: WARNINGS CheckDir: ExperimentHub.Rcheck Warnings: 1