Package: ExperimentHub Version: 2.16.0 Command: /Library/Frameworks/R.framework/Resources/bin/R CMD INSTALL ExperimentHub StartedAt: 2025-05-19 15:42:30 -0400 (Mon, 19 May 2025) EndedAt: 2025-05-19 15:42:47 -0400 (Mon, 19 May 2025) EllapsedTime: 17.2 seconds RetCode: 0 Status: OK