Package: ExperimentHub Version: 2.16.0 Command: /Library/Frameworks/R.framework/Resources/bin/R CMD build --keep-empty-dirs --no-resave-data ExperimentHub StartedAt: 2025-05-19 23:43:01 -0400 (Mon, 19 May 2025) EndedAt: 2025-05-19 23:43:41 -0400 (Mon, 19 May 2025) EllapsedTime: 39.8 seconds RetCode: 0 Status: OK PackageFile: ExperimentHub_2.16.0.tar.gz PackageFileSize: 489 KiB