Package: ExiMiR Version: 2.50.0 Command: /Library/Frameworks/R.framework/Resources/bin/R CMD build --keep-empty-dirs --no-resave-data ExiMiR StartedAt: 2025-05-05 18:52:00 -0400 (Mon, 05 May 2025) EndedAt: 2025-05-05 18:55:33 -0400 (Mon, 05 May 2025) EllapsedTime: 212.8 seconds RetCode: 0 Status: OK PackageFile: ExiMiR_2.50.0.tar.gz PackageFileSize: 1.503 MiB