Package: ExiMiR Version: 2.50.0 Command: rm -rf ExiMiR.buildbin-libdir && mkdir ExiMiR.buildbin-libdir && /Users/biocbuild/BBS/utils/build-universal.sh ExiMiR_2.50.0.tar.gz /Library/Frameworks/R.framework/Resources/bin/R ExiMiR.buildbin-libdir StartedAt: 2025-05-06 12:35:46 -0400 (Tue, 06 May 2025) EndedAt: 2025-05-06 12:35:59 -0400 (Tue, 06 May 2025) EllapsedTime: 13.1 seconds RetCode: 0 Status: OK PackageFile: ExiMiR_2.50.0.tgz PackageFileSize: 1.349 MiB