Package: ExiMiR Version: 2.48.0 Command: /Library/Frameworks/R.framework/Resources/bin/R CMD build --keep-empty-dirs --no-resave-data ExiMiR StartedAt: 2025-01-30 23:31:39 -0500 (Thu, 30 Jan 2025) EndedAt: 2025-01-30 23:32:52 -0500 (Thu, 30 Jan 2025) EllapsedTime: 73.7 seconds RetCode: 0 Status: OK PackageFile: ExiMiR_2.48.0.tar.gz PackageFileSize: 1.506 MiB