Package: EventPointer Version: 3.16.0 Command: /home/biocbuild/bbs-3.21-bioc/R/bin/R CMD build --keep-empty-dirs --no-resave-data EventPointer StartedAt: 2025-10-15 17:27:43 -0400 (Wed, 15 Oct 2025) EndedAt: 2025-10-15 17:29:00 -0400 (Wed, 15 Oct 2025) EllapsedTime: 76.3 seconds RetCode: 0 Status: OK PackageFile: EventPointer_3.16.0.tar.gz PackageFileSize: 1.642 MiB