Package: EventPointer Version: 3.16.0 Maintainer: Juan A. Ferrer-Bonsoms MaintainerEmail: jafhernandez at tecnun.es git_url: https://git.bioconductor.org/packages/EventPointer git_branch: RELEASE_3_21 git_last_commit: 912e0f6 git_last_commit_date: 2025-04-15 11:09:03 -0400 (Tue, 15 Apr 2025)