Package: EpiMix Version: 1.8.0 Command: /home/biocbuild/R/R/bin/R CMD check --install=check:EpiMix.install-out.txt --library=/home/biocbuild/R/R/site-library --no-vignettes --timings EpiMix_1.8.0.tar.gz StartedAt: 2025-01-31 06:02:11 -0000 (Fri, 31 Jan 2025) EndedAt: 2025-01-31 06:11:42 -0000 (Fri, 31 Jan 2025) EllapsedTime: 570.6 seconds RetCode: 0 Status: OK CheckDir: EpiMix.Rcheck Warnings: 0