Package: EpiDISH Version: 2.22.0 Command: F:\biocbuild\bbs-3.20-bioc\R\bin\R.exe CMD INSTALL EpiDISH StartedAt: 2025-01-30 15:26:22 -0500 (Thu, 30 Jan 2025) EndedAt: 2025-01-30 15:26:37 -0500 (Thu, 30 Jan 2025) EllapsedTime: 15.5 seconds RetCode: 0 Status: OK