Package: EpiDISH Version: 2.24.0 Command: /Library/Frameworks/R.framework/Resources/bin/R CMD check --install=check:EpiDISH.install-out.txt --library=/Library/Frameworks/R.framework/Resources/library --no-vignettes --timings EpiDISH_2.24.0.tar.gz StartedAt: 2025-05-06 03:01:57 -0400 (Tue, 06 May 2025) EndedAt: 2025-05-06 03:03:42 -0400 (Tue, 06 May 2025) EllapsedTime: 105.0 seconds RetCode: 0 Status: OK CheckDir: EpiDISH.Rcheck Warnings: 0