Package: EpiDISH Version: 2.24.0 Command: /Library/Frameworks/R.framework/Resources/bin/R CMD build --keep-empty-dirs --no-resave-data EpiDISH StartedAt: 2025-05-05 18:45:15 -0400 (Mon, 05 May 2025) EndedAt: 2025-05-05 18:46:05 -0400 (Mon, 05 May 2025) EllapsedTime: 50.0 seconds RetCode: 0 Status: OK PackageFile: EpiDISH_2.24.0.tar.gz PackageFileSize: 3.099 MiB