Package: EpiDISH Version: 2.24.0 Command: rm -rf EpiDISH.buildbin-libdir && mkdir EpiDISH.buildbin-libdir && /Users/biocbuild/BBS/utils/build-universal.sh EpiDISH_2.24.0.tar.gz /Library/Frameworks/R.framework/Resources/bin/R EpiDISH.buildbin-libdir StartedAt: 2025-05-06 12:34:00 -0400 (Tue, 06 May 2025) EndedAt: 2025-05-06 12:34:15 -0400 (Tue, 06 May 2025) EllapsedTime: 15.1 seconds RetCode: 0 Status: OK PackageFile: EpiDISH_2.24.0.tgz PackageFileSize: 2.112 MiB