Package: EpiDISH Version: 2.24.0 Command: /Library/Frameworks/R.framework/Resources/bin/R CMD INSTALL EpiDISH StartedAt: 2025-04-21 15:05:58 -0400 (Mon, 21 Apr 2025) EndedAt: 2025-04-21 15:06:29 -0400 (Mon, 21 Apr 2025) EllapsedTime: 31.1 seconds RetCode: 0 Status: OK