Package: EpiDISH Version: 2.22.0 Command: /home/biocbuild/R/R/bin/R CMD check --install=check:EpiDISH.install-out.txt --library=/home/biocbuild/R/R/site-library --no-vignettes --timings EpiDISH_2.22.0.tar.gz StartedAt: 2024-11-20 07:35:52 -0000 (Wed, 20 Nov 2024) EndedAt: 2024-11-20 07:36:58 -0000 (Wed, 20 Nov 2024) EllapsedTime: 66.1 seconds RetCode: 0 Status: WARNINGS CheckDir: EpiDISH.Rcheck Warnings: 2