Package: EpiDISH Version: 2.24.0 Command: /Library/Frameworks/R.framework/Resources/bin/R CMD INSTALL EpiDISH StartedAt: 2025-04-21 15:03:03 -0400 (Mon, 21 Apr 2025) EndedAt: 2025-04-21 15:03:05 -0400 (Mon, 21 Apr 2025) EllapsedTime: 2.5 seconds RetCode: 0 Status: OK