Package: EnrichmentBrowser Version: 2.36.0 Command: /home/biocbuild/R/R/bin/R CMD check --install=check:EnrichmentBrowser.install-out.txt --library=/home/biocbuild/R/R/site-library --no-vignettes --timings EnrichmentBrowser_2.36.0.tar.gz StartedAt: 2025-01-31 05:59:05 -0000 (Fri, 31 Jan 2025) EndedAt: 2025-01-31 06:16:46 -0000 (Fri, 31 Jan 2025) EllapsedTime: 1061.1 seconds RetCode: 0 Status: OK CheckDir: EnrichmentBrowser.Rcheck Warnings: 0