Package: EnrichedHeatmap Version: 1.36.0 Command: /home/biocbuild/R/R/bin/R CMD build --keep-empty-dirs --no-resave-data EnrichedHeatmap StartedAt: 2025-01-30 23:24:10 -0000 (Thu, 30 Jan 2025) EndedAt: 2025-01-30 23:31:14 -0000 (Thu, 30 Jan 2025) EllapsedTime: 424.1 seconds RetCode: 0 Status: OK PackageFile: EnrichedHeatmap_1.36.0.tar.gz PackageFileSize: 9.67 MiB