Package: EnrichDO Version: 1.2.0 Command: rm -rf EnrichDO.buildbin-libdir && mkdir EnrichDO.buildbin-libdir && /Users/biocbuild/BBS/utils/build-universal.sh EnrichDO_1.2.0.tar.gz /Library/Frameworks/R.framework/Resources/bin/R EnrichDO.buildbin-libdir StartedAt: 2025-10-14 13:22:12 -0400 (Tue, 14 Oct 2025) EndedAt: 2025-10-14 13:23:36 -0400 (Tue, 14 Oct 2025) EllapsedTime: 83.8 seconds RetCode: 0 Status: OK PackageFile: EnrichDO_1.2.0.tgz PackageFileSize: 3.624 MiB