Package: EnrichDO Version: 1.2.0 Maintainer: Hongyu Fu MaintainerEmail: 2287531995 at qq.com git_url: https://git.bioconductor.org/packages/EnrichDO git_branch: RELEASE_3_21 git_last_commit: 8d3448c git_last_commit_date: 2025-04-15 13:40:15 -0400 (Tue, 15 Apr 2025)