Package: EnMCB Version: 1.18.0 Command: /home/biocbuild/R/R/bin/R CMD check --install=check:EnMCB.install-out.txt --library=/home/biocbuild/R/R/site-library --no-vignettes --timings EnMCB_1.18.0.tar.gz StartedAt: 2025-01-31 05:58:35 -0000 (Fri, 31 Jan 2025) EndedAt: 2025-01-31 06:01:25 -0000 (Fri, 31 Jan 2025) EllapsedTime: 170.1 seconds RetCode: 0 Status: OK CheckDir: EnMCB.Rcheck Warnings: 0