Package: ERSSA Version: 1.24.0 Command: /home/biocbuild/R/R/bin/R CMD INSTALL ERSSA StartedAt: 2025-01-30 20:23:27 -0000 (Thu, 30 Jan 2025) EndedAt: 2025-01-30 20:23:59 -0000 (Thu, 30 Jan 2025) EllapsedTime: 32.5 seconds RetCode: 0 Status: OK