Package: ENmix Version: 1.42.0 Command: /home/biocbuild/R/R/bin/R CMD build --keep-empty-dirs --no-resave-data ENmix StartedAt: 2025-01-30 23:23:21 -0000 (Thu, 30 Jan 2025) EndedAt: 2025-01-30 23:24:32 -0000 (Thu, 30 Jan 2025) EllapsedTime: 71.0 seconds RetCode: 0 Status: OK PackageFile: ENmix_1.42.0.tar.gz PackageFileSize: 20.08 MiB