Package: ENmix Version: 1.44.0 Command: /Library/Frameworks/R.framework/Resources/bin/R CMD INSTALL ENmix StartedAt: 2025-04-21 15:35:01 -0400 (Mon, 21 Apr 2025) EndedAt: 2025-04-21 15:36:13 -0400 (Mon, 21 Apr 2025) EllapsedTime: 71.3 seconds RetCode: 0 Status: OK