Package: ELViS Version: 1.2.0 Command: /home/biocbuild/bbs-3.22-bioc/R/bin/R CMD INSTALL ELViS StartedAt: 2025-11-05 15:47:57 -0500 (Wed, 05 Nov 2025) EndedAt: 2025-11-05 15:48:41 -0500 (Wed, 05 Nov 2025) EllapsedTime: 43.8 seconds RetCode: 0 Status: OK