Package: EGAD Version: 1.36.0 Maintainer: Sara Ballouz MaintainerEmail: sarahballouz at gmail.com git_url: https://git.bioconductor.org/packages/EGAD git_branch: RELEASE_3_21 git_last_commit: 8b636bb git_last_commit_date: 2025-04-15 11:01:56 -0400 (Tue, 15 Apr 2025)