Package: EDIRquery Version: 1.8.0 Command: /Library/Frameworks/R.framework/Resources/bin/R CMD INSTALL EDIRquery StartedAt: 2025-05-08 15:43:06 -0400 (Thu, 08 May 2025) EndedAt: 2025-05-08 15:43:58 -0400 (Thu, 08 May 2025) EllapsedTime: 51.6 seconds RetCode: 0 Status: OK