Package: EDIRquery Version: 1.8.0 Command: /Library/Frameworks/R.framework/Resources/bin/R CMD build --keep-empty-dirs --no-resave-data EDIRquery StartedAt: 2025-04-21 16:41:34 -0400 (Mon, 21 Apr 2025) EndedAt: 2025-04-21 16:42:19 -0400 (Mon, 21 Apr 2025) EllapsedTime: 45.7 seconds RetCode: 0 Status: OK PackageFile: EDIRquery_1.8.0.tar.gz PackageFileSize: 1.377 MiB