Package: EDIRquery Version: 1.8.0 Command: /Library/Frameworks/R.framework/Resources/bin/R CMD build --keep-empty-dirs --no-resave-data EDIRquery StartedAt: 2025-04-21 16:14:53 -0400 (Mon, 21 Apr 2025) EndedAt: 2025-04-21 16:15:11 -0400 (Mon, 21 Apr 2025) EllapsedTime: 18.2 seconds RetCode: 0 Status: OK PackageFile: EDIRquery_1.8.0.tar.gz PackageFileSize: 1.376 MiB