Package: EDIRquery Version: 1.6.0 Command: /Library/Frameworks/R.framework/Resources/bin/R CMD INSTALL EDIRquery StartedAt: 2025-01-30 15:26:42 -0500 (Thu, 30 Jan 2025) EndedAt: 2025-01-30 15:27:11 -0500 (Thu, 30 Jan 2025) EllapsedTime: 28.5 seconds RetCode: 0 Status: OK