############################################################################## ############################################################################## ### ### Running command: ### ### rm -rf EDIRquery.buildbin-libdir && mkdir EDIRquery.buildbin-libdir && /Users/biocbuild/BBS/utils/build-universal.sh EDIRquery_1.8.0.tar.gz /Library/Frameworks/R.framework/Resources/bin/R EDIRquery.buildbin-libdir ### ############################################################################## ############################################################################## >>>>>>> >>>>>>> INSTALLATION WITH 'R CMD INSTALL --preclean --no-multiarch --library=EDIRquery.buildbin-libdir EDIRquery_1.8.0.tar.gz' >>>>>>> * installing *source* package ‘EDIRquery’ ... ** this is package ‘EDIRquery’ version ‘1.8.0’ ** using staged installation ** R ** data ** inst ** byte-compile and prepare package for lazy loading ** help *** installing help indices ** building package indices ** installing vignettes ** testing if installed package can be loaded from temporary location ** testing if installed package can be loaded from final location ** testing if installed package keeps a record of temporary installation path * DONE (EDIRquery) chown: EDIRquery.buildbin-libdir/EDIRquery/CITATION: Operation not permitted chown: EDIRquery.buildbin-libdir/EDIRquery/R/EDIRquery: Operation not permitted chown: EDIRquery.buildbin-libdir/EDIRquery/R/EDIRquery.rdb: Operation not permitted chown: EDIRquery.buildbin-libdir/EDIRquery/R/sysdata.rdb: Operation not permitted chown: EDIRquery.buildbin-libdir/EDIRquery/R/sysdata.rdx: Operation not permitted chown: EDIRquery.buildbin-libdir/EDIRquery/R/EDIRquery.rdx: Operation not permitted chown: EDIRquery.buildbin-libdir/EDIRquery/R: Operation not permitted chown: EDIRquery.buildbin-libdir/EDIRquery/Meta/vignette.rds: Operation not permitted chown: EDIRquery.buildbin-libdir/EDIRquery/Meta/data.rds: Operation not permitted chown: EDIRquery.buildbin-libdir/EDIRquery/Meta/links.rds: Operation not permitted chown: EDIRquery.buildbin-libdir/EDIRquery/Meta/features.rds: Operation not permitted chown: EDIRquery.buildbin-libdir/EDIRquery/Meta/nsInfo.rds: Operation not permitted chown: EDIRquery.buildbin-libdir/EDIRquery/Meta/package.rds: Operation not permitted chown: EDIRquery.buildbin-libdir/EDIRquery/Meta/hsearch.rds: Operation not permitted chown: EDIRquery.buildbin-libdir/EDIRquery/Meta/Rd.rds: Operation not permitted chown: EDIRquery.buildbin-libdir/EDIRquery/Meta: Operation not permitted chown: EDIRquery.buildbin-libdir/EDIRquery/NAMESPACE: Operation not permitted chown: EDIRquery.buildbin-libdir/EDIRquery/html/R.css: Operation not permitted chown: EDIRquery.buildbin-libdir/EDIRquery/html/00Index.html: Operation not permitted chown: EDIRquery.buildbin-libdir/EDIRquery/html: Operation not permitted chown: EDIRquery.buildbin-libdir/EDIRquery/DESCRIPTION: Operation not permitted chown: EDIRquery.buildbin-libdir/EDIRquery/NEWS: Operation not permitted chown: EDIRquery.buildbin-libdir/EDIRquery/scripts/internal_data_sysdata.R: Operation not permitted chown: EDIRquery.buildbin-libdir/EDIRquery/scripts: Operation not permitted chown: EDIRquery.buildbin-libdir/EDIRquery/INDEX: Operation not permitted chown: EDIRquery.buildbin-libdir/EDIRquery/doc/index.html: Operation not permitted chown: EDIRquery.buildbin-libdir/EDIRquery/doc/EDIRquery.Rmd: Operation not permitted chown: EDIRquery.buildbin-libdir/EDIRquery/doc/EDIRquery.pdf: Operation not permitted chown: EDIRquery.buildbin-libdir/EDIRquery/doc/EDIRquery.R: Operation not permitted chown: EDIRquery.buildbin-libdir/EDIRquery/doc: Operation not permitted chown: EDIRquery.buildbin-libdir/EDIRquery/data/gene_chr.rda: Operation not permitted chown: EDIRquery.buildbin-libdir/EDIRquery/data: Operation not permitted chown: EDIRquery.buildbin-libdir/EDIRquery/help/AnIndex: Operation not permitted chown: EDIRquery.buildbin-libdir/EDIRquery/help/aliases.rds: Operation not permitted chown: EDIRquery.buildbin-libdir/EDIRquery/help/EDIRquery.rdb: Operation not permitted chown: EDIRquery.buildbin-libdir/EDIRquery/help/paths.rds: Operation not permitted chown: EDIRquery.buildbin-libdir/EDIRquery/help/EDIRquery.rdx: Operation not permitted chown: EDIRquery.buildbin-libdir/EDIRquery/help: Operation not permitted chown: EDIRquery.buildbin-libdir/EDIRquery: Operation not permitted