Package: EBarrays Version: 2.70.0 Command: /home/biocbuild/R/R/bin/R CMD INSTALL EBarrays StartedAt: 2025-01-30 20:06:33 -0000 (Thu, 30 Jan 2025) EndedAt: 2025-01-30 20:06:40 -0000 (Thu, 30 Jan 2025) EllapsedTime: 6.5 seconds RetCode: 0 Status: OK