Package: EBarrays Version: 2.70.0 Command: /home/biocbuild/R/R/bin/R CMD check --install=check:EBarrays.install-out.txt --library=/home/biocbuild/R/R/site-library --no-vignettes --timings EBarrays_2.70.0.tar.gz StartedAt: 2025-01-31 05:54:47 -0000 (Fri, 31 Jan 2025) EndedAt: 2025-01-31 05:55:35 -0000 (Fri, 31 Jan 2025) EllapsedTime: 48.0 seconds RetCode: 0 Status: OK CheckDir: EBarrays.Rcheck Warnings: 0