Package: EBarrays Version: 2.72.0 Command: /Library/Frameworks/R.framework/Resources/bin/R CMD build --keep-empty-dirs --no-resave-data EBarrays StartedAt: 2025-04-21 16:41:07 -0400 (Mon, 21 Apr 2025) EndedAt: 2025-04-21 16:41:34 -0400 (Mon, 21 Apr 2025) EllapsedTime: 26.3 seconds RetCode: 0 Status: OK PackageFile: EBarrays_2.72.0.tar.gz PackageFileSize: 1.039 MiB