Package: EBarrays Version: 2.72.0 Command: /Library/Frameworks/R.framework/Resources/bin/R CMD check --install=check:EBarrays.install-out.txt --library=/Library/Frameworks/R.framework/Resources/library --no-vignettes --timings EBarrays_2.72.0.tar.gz StartedAt: 2025-05-13 18:29:45 -0400 (Tue, 13 May 2025) EndedAt: 2025-05-13 18:30:35 -0400 (Tue, 13 May 2025) EllapsedTime: 50.7 seconds RetCode: 0 Status: OK CheckDir: EBarrays.Rcheck Warnings: 0