Package: EBSeq Version: 2.4.0 Command: /home/biocbuild/R/R/bin/R CMD INSTALL EBSeq StartedAt: 2025-01-30 20:47:22 -0000 (Thu, 30 Jan 2025) EndedAt: 2025-01-30 20:47:33 -0000 (Thu, 30 Jan 2025) EllapsedTime: 10.3 seconds RetCode: 1 Status: ERROR