Package: EBSeq Version: 2.6.0 Command: /Library/Frameworks/R.framework/Resources/bin/R CMD build --keep-empty-dirs --no-resave-data EBSeq StartedAt: 2025-04-21 16:14:39 -0400 (Mon, 21 Apr 2025) EndedAt: 2025-04-21 16:14:40 -0400 (Mon, 21 Apr 2025) EllapsedTime: 1.0 seconds RetCode: 0 Status: OK PackageFile: EBSeq_2.6.0.tar.gz PackageFileSize: 1.07 MiB