Package: EBSeq Version: 2.6.0 Command: /Library/Frameworks/R.framework/Resources/bin/R CMD INSTALL EBSeq StartedAt: 2025-05-05 15:24:45 -0400 (Mon, 05 May 2025) EndedAt: 2025-05-05 15:25:10 -0400 (Mon, 05 May 2025) EllapsedTime: 24.9 seconds RetCode: 0 Status: OK