Package: EBImage Version: 4.50.0 Command: /home/biocbuild/R/R/bin/R CMD check --install=check:EBImage.install-out.txt --library=/home/biocbuild/R/R/site-library --no-vignettes --timings EBImage_4.50.0.tar.gz StartedAt: 2025-05-09 08:18:22 -0000 (Fri, 09 May 2025) EndedAt: 2025-05-09 08:19:47 -0000 (Fri, 09 May 2025) EllapsedTime: 85.1 seconds RetCode: 0 Status: OK CheckDir: EBImage.Rcheck Warnings: 0