Package: EBImage Version: 4.50.0 Command: /home/biocbuild/R/R/bin/R CMD build --keep-empty-dirs --no-resave-data EBImage StartedAt: 2025-05-09 00:27:29 -0000 (Fri, 09 May 2025) EndedAt: 2025-05-09 00:28:15 -0000 (Fri, 09 May 2025) EllapsedTime: 46.0 seconds RetCode: 0 Status: OK PackageFile: EBImage_4.50.0.tar.gz PackageFileSize: 5.279 MiB