Package: DynDoc Version: 1.86.0 Command: /Library/Frameworks/R.framework/Resources/bin/R CMD INSTALL DynDoc StartedAt: 2025-05-01 15:03:34 -0400 (Thu, 01 May 2025) EndedAt: 2025-05-01 15:03:45 -0400 (Thu, 01 May 2025) EllapsedTime: 11.9 seconds RetCode: 0 Status: OK