Package: DynDoc Version: 1.86.0 Command: rm -rf DynDoc.buildbin-libdir && mkdir DynDoc.buildbin-libdir && /Users/biocbuild/BBS/utils/build-universal.sh DynDoc_1.86.0.tar.gz /Library/Frameworks/R.framework/Resources/bin/R DynDoc.buildbin-libdir StartedAt: 2025-04-22 00:43:38 -0400 (Tue, 22 Apr 2025) EndedAt: 2025-04-22 00:43:43 -0400 (Tue, 22 Apr 2025) EllapsedTime: 5.8 seconds RetCode: 0 Status: OK PackageFile: DynDoc_1.86.0.tgz PackageFileSize: 218 KiB