Package: DynDoc Version: 1.86.0 Command: /home/biocbuild/R/R/bin/R CMD INSTALL DynDoc StartedAt: 2025-05-05 20:12:44 -0000 (Mon, 05 May 2025) EndedAt: 2025-05-05 20:12:57 -0000 (Mon, 05 May 2025) EllapsedTime: 12.5 seconds RetCode: 0 Status: OK