Package: DynDoc Version: 1.86.0 Command: /home/biocbuild/R/R/bin/R CMD check --install=check:DynDoc.install-out.txt --library=/home/biocbuild/R/R/site-library --no-vignettes --timings DynDoc_1.86.0.tar.gz StartedAt: 2025-05-06 08:11:55 -0000 (Tue, 06 May 2025) EndedAt: 2025-05-06 08:12:13 -0000 (Tue, 06 May 2025) EllapsedTime: 18.0 seconds RetCode: 0 Status: WARNINGS CheckDir: DynDoc.Rcheck Warnings: 1