Package: DuplexDiscovereR Version: 1.2.0 Command: rm -rf DuplexDiscovereR.buildbin-libdir && mkdir DuplexDiscovereR.buildbin-libdir && /Users/biocbuild/BBS/utils/build-universal.sh DuplexDiscovereR_1.2.0.tar.gz /Library/Frameworks/R.framework/Resources/bin/R DuplexDiscovereR.buildbin-libdir StartedAt: 2025-10-14 13:20:31 -0400 (Tue, 14 Oct 2025) EndedAt: 2025-10-14 13:24:03 -0400 (Tue, 14 Oct 2025) EllapsedTime: 212.8 seconds RetCode: 0 Status: OK PackageFile: DuplexDiscovereR_1.2.0.tgz PackageFileSize: 1.542 MiB