Package: DspikeIn Version: 1.0.0 Command: /home/biocbuild/bbs-3.22-bioc/R/bin/R CMD INSTALL DspikeIn StartedAt: 2025-11-02 15:50:40 -0500 (Sun, 02 Nov 2025) EndedAt: 2025-11-02 15:51:40 -0500 (Sun, 02 Nov 2025) EllapsedTime: 59.6 seconds RetCode: 0 Status: OK